
BEGIN:VCALENDAR
VERSION:2.0
PRODID:-//Family Life Radio - ECPv6.15.20//NONSGML v1.0//EN
CALSCALE:GREGORIAN
METHOD:PUBLISH
X-ORIGINAL-URL:https://myflr.org
X-WR-CALDESC:Events for Family Life Radio
REFRESH-INTERVAL;VALUE=DURATION:PT1H
X-Robots-Tag:noindex
X-PUBLISHED-TTL:PT1H
BEGIN:VTIMEZONE
TZID:America/Phoenix
BEGIN:STANDARD
TZOFFSETFROM:-0700
TZOFFSETTO:-0700
TZNAME:MST
DTSTART:20240101T000000
END:STANDARD
END:VTIMEZONE
BEGIN:VEVENT
DTSTART;TZID=America/Phoenix:20251025T080000
DTEND;TZID=America/Phoenix:20251025T120000
DTSTAMP:20260421T105020
CREATED:20251008T195412Z
LAST-MODIFIED:20251008T195412Z
UID:10056958-1761379200-1761393600@myflr.org
SUMMARY:Pancake Palooza - Rock Spring
DESCRIPTION:Commemorating 30 years of servicing our community with the Domestic Violence Shelter and Youth Cottage
URL:https://myflr.org/event/pancake-palooza-rock-spring/
LOCATION:Walker County Civic Center\, 10052 N Highway 27\, Rock Spring\, GA\, 30739\, United States
CATEGORIES:Georgia
ATTACH;FMTTYPE=image/jpeg:https://eadn-wc05-15902914.nxedge.io/wp-content/uploads/2025/10/pancake-palooza.jpg
ORGANIZER;CN="Family Crisis Center of WDCC":MAILTO:rbailey@fccwdcc.org
END:VEVENT
END:VCALENDAR