
BEGIN:VCALENDAR
VERSION:2.0
PRODID:-//Family Life Radio - ECPv6.15.20//NONSGML v1.0//EN
CALSCALE:GREGORIAN
METHOD:PUBLISH
X-WR-CALNAME:Family Life Radio
X-ORIGINAL-URL:https://myflr.org
X-WR-CALDESC:Events for Family Life Radio
REFRESH-INTERVAL;VALUE=DURATION:PT1H
X-Robots-Tag:noindex
X-PUBLISHED-TTL:PT1H
BEGIN:VTIMEZONE
TZID:America/Detroit
BEGIN:DAYLIGHT
TZOFFSETFROM:-0500
TZOFFSETTO:-0400
TZNAME:EDT
DTSTART:20240310T070000
END:DAYLIGHT
BEGIN:STANDARD
TZOFFSETFROM:-0400
TZOFFSETTO:-0500
TZNAME:EST
DTSTART:20241103T060000
END:STANDARD
BEGIN:DAYLIGHT
TZOFFSETFROM:-0500
TZOFFSETTO:-0400
TZNAME:EDT
DTSTART:20250309T070000
END:DAYLIGHT
BEGIN:STANDARD
TZOFFSETFROM:-0400
TZOFFSETTO:-0500
TZNAME:EST
DTSTART:20251102T060000
END:STANDARD
BEGIN:DAYLIGHT
TZOFFSETFROM:-0500
TZOFFSETTO:-0400
TZNAME:EDT
DTSTART:20260308T070000
END:DAYLIGHT
BEGIN:STANDARD
TZOFFSETFROM:-0400
TZOFFSETTO:-0500
TZNAME:EST
DTSTART:20261101T060000
END:STANDARD
BEGIN:DAYLIGHT
TZOFFSETFROM:-0500
TZOFFSETTO:-0400
TZNAME:EDT
DTSTART:20270314T070000
END:DAYLIGHT
BEGIN:STANDARD
TZOFFSETFROM:-0400
TZOFFSETTO:-0500
TZNAME:EST
DTSTART:20271107T060000
END:STANDARD
END:VTIMEZONE
BEGIN:VEVENT
DTSTART;TZID=America/Detroit:20260417T180000
DTEND;TZID=America/Detroit:20260417T210000
DTSTAMP:20260421T175726
CREATED:20260128T193345Z
LAST-MODIFIED:20260226T154919Z
UID:10058190-1776448800-1776459600@myflr.org
SUMMARY:Laugh4Hope - Northville
DESCRIPTION:Another Way Pregnancy Center is in Farmington Hills. We are a Christ-centered non-profit that educates\, supports\, and empowers women facing unexpected pregnancies in Metro-Detroit. We provide free\, confidential\, compassionate and professional medical care\, parenting education\, and material goods. \nOur 10th annual Laugh4Hope Event is scheduled for April 17th\, 2026\, at the Ward Church in Northville. It is a family-friendly comedy show. We are excited to have Shawn Reynolds and Jeremy Nunes! Doors open at 6:00 pm. \nWARD CHURCH\n40000 6 Mile Rd.\nNorthville\, MI 48168
URL:https://myflr.org/event/laugh4hope-northville-2/
LOCATION:Ward Church\, 40000 6 Mile Rd.\, Northville\, MI\, 48168\, United States
CATEGORIES:Featured,Michigan
ATTACH;FMTTYPE=image/png:https://eadn-wc05-15902914.nxedge.io/wp-content/uploads/2026/01/2026-L4H.png
ORGANIZER;CN="Another Way Pregnancy Center":MAILTO:asstdirector@awpc4life.com
END:VEVENT
BEGIN:VEVENT
DTSTART;TZID=America/Detroit:20250404T180000
DTEND;TZID=America/Detroit:20250404T210000
DTSTAMP:20260421T175726
CREATED:20250203T181322Z
LAST-MODIFIED:20250210T185313Z
UID:10038938-1743789600-1743800400@myflr.org
SUMMARY:Laugh4Hope – Northville
DESCRIPTION:Join Family Life Radio for a clean comedy night fundraiser to save lives with Another Way Pregnancy Center. AWPC is a Christian non-profit pregnancy resource center located in Farmington Hills committed to its mission that no woman or couple feels the need for abortion. All services are free and include pregnancy tests\, limited obstetric ultrasounds\, options counseling\, parenting support and education\, material resources\, pregnancy loss support\, after-abortion care and support\, and community referrals. Featured comedians for the 2025 event include Andy Beningo and Ross Bennett. More information can be found at awpcfriends.org/events.
URL:https://myflr.org/event/laugh4hope-northville/
LOCATION:Ward Church\, 40000 6 Mile Rd.\, Northville\, MI\, 48168\, United States
CATEGORIES:Featured,Michigan
ATTACH;FMTTYPE=image/jpeg:https://eadn-wc05-15902914.nxedge.io/wp-content/uploads/2025/02/L4H-Save-The-Date-6-x-6-in.jpg
ORGANIZER;CN="Another Way Pregnancy Center":MAILTO:asstdirector@awpc4life.com
END:VEVENT
END:VCALENDAR