
BEGIN:VCALENDAR
VERSION:2.0
PRODID:-//Family Life Radio - ECPv6.15.20//NONSGML v1.0//EN
CALSCALE:GREGORIAN
METHOD:PUBLISH
X-WR-CALNAME:Family Life Radio
X-ORIGINAL-URL:https://myflr.org
X-WR-CALDESC:Events for Family Life Radio
REFRESH-INTERVAL;VALUE=DURATION:PT1H
X-Robots-Tag:noindex
X-PUBLISHED-TTL:PT1H
BEGIN:VTIMEZONE
TZID:America/Detroit
BEGIN:DAYLIGHT
TZOFFSETFROM:-0500
TZOFFSETTO:-0400
TZNAME:EDT
DTSTART:20240310T070000
END:DAYLIGHT
BEGIN:STANDARD
TZOFFSETFROM:-0400
TZOFFSETTO:-0500
TZNAME:EST
DTSTART:20241103T060000
END:STANDARD
BEGIN:DAYLIGHT
TZOFFSETFROM:-0500
TZOFFSETTO:-0400
TZNAME:EDT
DTSTART:20250309T070000
END:DAYLIGHT
BEGIN:STANDARD
TZOFFSETFROM:-0400
TZOFFSETTO:-0500
TZNAME:EST
DTSTART:20251102T060000
END:STANDARD
BEGIN:DAYLIGHT
TZOFFSETFROM:-0500
TZOFFSETTO:-0400
TZNAME:EDT
DTSTART:20260308T070000
END:DAYLIGHT
BEGIN:STANDARD
TZOFFSETFROM:-0400
TZOFFSETTO:-0500
TZNAME:EST
DTSTART:20261101T060000
END:STANDARD
END:VTIMEZONE
BEGIN:VEVENT
DTSTART;TZID=America/Detroit:20251224T173000
DTEND;TZID=America/Detroit:20251224T190000
DTSTAMP:20260421T203802
CREATED:20251209T164914Z
LAST-MODIFIED:20251209T164914Z
UID:10057810-1766597400-1766602800@myflr.org
SUMMARY:A Timeless Christmas Eve By Candlelight
DESCRIPTION:✨ A Timeless Christmas Eve ✨\nEvent Details \n📅 Wednesday\, December 24\, 2025\n🕕 6:00 PM (Doors open at 5:30 PM)\n📍 415 E Maple St\n🎟️ $35 Ticket — includes pre-show hot chocolate & dessert\nCome and share in the wonder of Christmas Eve surrounded by music\, light\, and love.\nLet the elegance of the evening and the artistry of Rodney Page’s violin make this a night you’ll treasure for years to come.
URL:https://myflr.org/event/a-timeless-christmas-eve-by-candlelight/
LOCATION:WECHURCH (Mason\, MI)\, 415 E Maple st\, Mason\, MI\, 48854\, United States
CATEGORIES:Michigan
ATTACH;FMTTYPE=image/jpeg:https://eadn-wc05-15902914.nxedge.io/wp-content/uploads/2025/12/IMG_9833-scaled.jpeg
ORGANIZER;CN="WECHURCH":MAILTO:Saturn.wells@wechurchlansing.com
END:VEVENT
BEGIN:VEVENT
DTSTART;TZID=America/Detroit:20250629T110000
DTEND;TZID=America/Detroit:20250629T130000
DTSTAMP:20260421T203803
CREATED:20250628T040941Z
LAST-MODIFIED:20250628T040941Z
UID:10046451-1751194800-1751202000@myflr.org
SUMMARY:Grand Opening
DESCRIPTION:JOIN US for our WECHURCH GRAND OPENING! \nNEW LOCATION: 415 E Maple St\, Mason\, MI 48854\nTIME: 11:00am \nWe are so excited to have you there\, please mark your calendars!
URL:https://myflr.org/event/grand-opening/
LOCATION:WECHURCH (Mason\, MI)\, 415 E Maple st\, Mason\, MI\, 48854\, United States
CATEGORIES:Michigan
ATTACH;FMTTYPE=image/jpeg:https://eadn-wc05-15902914.nxedge.io/wp-content/uploads/2025/06/IMG_8832.jpeg
ORGANIZER;CN="WECHURCH":MAILTO:Saturn.wells@wechurchlansing.com
END:VEVENT
END:VCALENDAR