
BEGIN:VCALENDAR
VERSION:2.0
PRODID:-//Family Life Radio - ECPv6.15.20//NONSGML v1.0//EN
CALSCALE:GREGORIAN
METHOD:PUBLISH
X-ORIGINAL-URL:https://myflr.org
X-WR-CALDESC:Events for Family Life Radio
REFRESH-INTERVAL;VALUE=DURATION:PT1H
X-Robots-Tag:noindex
X-PUBLISHED-TTL:PT1H
BEGIN:VTIMEZONE
TZID:America/Phoenix
BEGIN:STANDARD
TZOFFSETFROM:-0700
TZOFFSETTO:-0700
TZNAME:MST
DTSTART:20220101T000000
END:STANDARD
END:VTIMEZONE
BEGIN:VEVENT
DTSTART;TZID=America/Phoenix:20230701T100000
DTEND;TZID=America/Phoenix:20230701T140000
DTSTAMP:20260421T203912
CREATED:20230608T141206Z
LAST-MODIFIED:20230608T141206Z
UID:10010610-1688205600-1688220000@myflr.org
SUMMARY:Weidman Church of the Nazarene Community Picnic
DESCRIPTION:Join us for our church picnic. We will have pork and chicken fresh off the grill. We will have activities for children. We will have a puppet team to do a children’s show at 10am. All are welcome to join us.
URL:https://myflr.org/event/weidman-church-of-the-nazarene-community-picnic/
LOCATION:Weidman Church of the Nazarene (Weidman\, MI)\, 3011 N School Rd\, Weidman\, MI\, 48893\, United States
CATEGORIES:Michigan
ATTACH;FMTTYPE=image/jpeg:https://eadn-wc05-15902914.nxedge.io/wp-content/uploads/2023/06/Church-sign.jpg
ORGANIZER;CN="Weidman Church of the Nazarene (Weidman%2C MI)":MAILTO:office@weidmannazarene.org
END:VEVENT
END:VCALENDAR