
BEGIN:VCALENDAR
VERSION:2.0
PRODID:-//Family Life Radio - ECPv6.15.20//NONSGML v1.0//EN
CALSCALE:GREGORIAN
METHOD:PUBLISH
X-ORIGINAL-URL:https://myflr.org
X-WR-CALDESC:Events for Family Life Radio
REFRESH-INTERVAL;VALUE=DURATION:PT1H
X-Robots-Tag:noindex
X-PUBLISHED-TTL:PT1H
BEGIN:VTIMEZONE
TZID:America/Chicago
BEGIN:DAYLIGHT
TZOFFSETFROM:-0600
TZOFFSETTO:-0500
TZNAME:CDT
DTSTART:20240310T080000
END:DAYLIGHT
BEGIN:STANDARD
TZOFFSETFROM:-0500
TZOFFSETTO:-0600
TZNAME:CST
DTSTART:20241103T070000
END:STANDARD
BEGIN:DAYLIGHT
TZOFFSETFROM:-0600
TZOFFSETTO:-0500
TZNAME:CDT
DTSTART:20250309T080000
END:DAYLIGHT
BEGIN:STANDARD
TZOFFSETFROM:-0500
TZOFFSETTO:-0600
TZNAME:CST
DTSTART:20251102T070000
END:STANDARD
BEGIN:DAYLIGHT
TZOFFSETFROM:-0600
TZOFFSETTO:-0500
TZNAME:CDT
DTSTART:20260308T080000
END:DAYLIGHT
BEGIN:STANDARD
TZOFFSETFROM:-0500
TZOFFSETTO:-0600
TZNAME:CST
DTSTART:20261101T070000
END:STANDARD
END:VTIMEZONE
BEGIN:VEVENT
DTSTART;TZID=America/Chicago:20250611T090000
DTEND;TZID=America/Chicago:20250613T120000
DTSTAMP:20260421T195452
CREATED:20250602T144020Z
LAST-MODIFIED:20250602T144020Z
UID:10045376-1749632400-1749816000@myflr.org
SUMMARY:Vacation Bible School
DESCRIPTION:Ready for the ultimate Alaskan adventure where the northern lights shine over majestic mountains\, racing rivers\, and sparkling glaciers. We trek the tundra\, and discover how easy it is to lose sight of what’s true in our wild world today. Guiding us towards Jesus\, True North VBS reveals that He is a faithful friend we can always trust. He’s our True North! \nKids will foster a deeper connection with our faithful friend\, Jesus\, while discovering the great Alaskan frontier. As kids trek through the tundra of Alaska and experience what it means to trust in Jesus\, prepare for amazing faith connections to unfold! \nWhat to Expect Everyday at True North VBS \nDuring True North by Group VBS 2025\, children journey through the Book of Matthew to discover how Jesus is their guiding light\, offering unwavering faithfulness throughout life’s challenges. Each day focuses on a different Bible story\, reinforcing the message that Jesus is always present and dependable in every situation. \nIt’s going to be an epic discovery! Join us and register today! \nJune 11-13th 9am- 12pm\nMore info Calvarypcb.com
URL:https://myflr.org/event/vacation-bible-school-12/
LOCATION:West Bay Elementary School (Panama City\, FL)\, 14813 School Dr\, Panama City Beach\, FL\, 32413\, United States
CATEGORIES:Florida
ATTACH;FMTTYPE=image/jpeg:https://eadn-wc05-15902914.nxedge.io/wp-content/uploads/2025/05/CCPCB_20250529_192228_0000.jpg
END:VEVENT
END:VCALENDAR