
BEGIN:VCALENDAR
VERSION:2.0
PRODID:-//Family Life Radio - ECPv6.15.20//NONSGML v1.0//EN
CALSCALE:GREGORIAN
METHOD:PUBLISH
X-WR-CALNAME:Family Life Radio
X-ORIGINAL-URL:https://myflr.org
X-WR-CALDESC:Events for Family Life Radio
REFRESH-INTERVAL;VALUE=DURATION:PT1H
X-Robots-Tag:noindex
X-PUBLISHED-TTL:PT1H
BEGIN:VTIMEZONE
TZID:America/Phoenix
BEGIN:STANDARD
TZOFFSETFROM:-0700
TZOFFSETTO:-0700
TZNAME:MST
DTSTART:20230101T000000
END:STANDARD
END:VTIMEZONE
BEGIN:VEVENT
DTSTART;TZID=America/Phoenix:20241018T180000
DTEND;TZID=America/Phoenix:20241018T200000
DTSTAMP:20260421T173502
CREATED:20240827T195828Z
LAST-MODIFIED:20240827T195828Z
UID:10033759-1729274400-1729281600@myflr.org
SUMMARY:Community Fall Festival
DESCRIPTION:The Community Fall Fest is a safe place for families to enjoy a night of fun together! There will be games\, rides\, trunk or treat\, a pumpkin patch\, face painting and more! The event is free. Food trucks will be onsite if families would like to purchase food and drinks.
URL:https://myflr.org/event/community-fall-festival-4/
LOCATION:West Side Church of God\, 7925 W. Bethany Home Rd\, Glendale\, AZ\, 85303\, United States
CATEGORIES:Arizona
ATTACH;FMTTYPE=image/png:https://eadn-wc05-15902914.nxedge.io/wp-content/uploads/2024/08/Fall-Fest-2022-Social-Postcards.png
END:VEVENT
END:VCALENDAR