
BEGIN:VCALENDAR
VERSION:2.0
PRODID:-//Family Life Radio - ECPv6.15.20//NONSGML v1.0//EN
CALSCALE:GREGORIAN
METHOD:PUBLISH
X-WR-CALNAME:Family Life Radio
X-ORIGINAL-URL:https://myflr.org
X-WR-CALDESC:Events for Family Life Radio
REFRESH-INTERVAL;VALUE=DURATION:PT1H
X-Robots-Tag:noindex
X-PUBLISHED-TTL:PT1H
BEGIN:VTIMEZONE
TZID:America/Phoenix
BEGIN:STANDARD
TZOFFSETFROM:-0700
TZOFFSETTO:-0700
TZNAME:MST
DTSTART:20240101T000000
END:STANDARD
END:VTIMEZONE
BEGIN:VEVENT
DTSTART;TZID=America/Phoenix:20250630T110000
DTEND;TZID=America/Phoenix:20250630T170000
DTSTAMP:20260421T130324
CREATED:20250403T144858Z
LAST-MODIFIED:20250403T144858Z
UID:10040483-1751281200-1751302800@myflr.org
SUMMARY:Roger Erickson Memorial Golf Tournament – Ringgold
DESCRIPTION:This is a golf tournament to raise funds for Disciple Making Mission\, a faith-based nonprofit working with incarcerated men to teach them about Christ and discipleship.
URL:https://myflr.org/event/roger-erickson-memorial-golf-tournament-ringgold/
LOCATION:Windstone Golf Club (Ringgold\, TN)\, 9230 Windstone Dr\, Ringgold\, TN\, 30736\, United States
CATEGORIES:Tennesee
ATTACH;FMTTYPE=image/jpeg:https://eadn-wc05-15902914.nxedge.io/wp-content/uploads/2025/03/Golf-Flyer-scaled.jpg
ORGANIZER;CN="Disciple Making Mission":MAILTO:dwhite@cbmc.com
END:VEVENT
END:VCALENDAR