
BEGIN:VCALENDAR
VERSION:2.0
PRODID:-//Family Life Radio - ECPv6.15.20//NONSGML v1.0//EN
CALSCALE:GREGORIAN
METHOD:PUBLISH
X-ORIGINAL-URL:https://myflr.org
X-WR-CALDESC:Events for Family Life Radio
REFRESH-INTERVAL;VALUE=DURATION:PT1H
X-Robots-Tag:noindex
X-PUBLISHED-TTL:PT1H
BEGIN:VTIMEZONE
TZID:America/Phoenix
BEGIN:STANDARD
TZOFFSETFROM:-0700
TZOFFSETTO:-0700
TZNAME:MST
DTSTART:20230101T000000
END:STANDARD
END:VTIMEZONE
BEGIN:VEVENT
DTSTART;TZID=America/Phoenix:20241103T180000
DTEND;TZID=America/Phoenix:20241103T193000
DTSTAMP:20260421T162545
CREATED:20241014T132609Z
LAST-MODIFIED:20241014T132609Z
UID:10036694-1730656800-1730662200@myflr.org
SUMMARY:Watoto Children’s Choir
DESCRIPTION:Watoto Children’s Choirs have traveled extensively since 1984 sharing a message of hope—not only for Africa’s most vulnerable children and women—but for each of us all around the world. And we’re thrilled they’re coming here to perform songs off their brand-new album\, “Better Days—There Is Hope” on November 3rd at 6pm. Come join us at 701 Holmes Rd Ypsilanti\, MI for this heartwarming\, musical performance.
URL:https://myflr.org/event/watoto-childrens-choir/
LOCATION:YpsiAG (Ypsilanti\, MI)\, 701 Holmes Rd\, Ypsilanti\, MI\, 48198\, United States
CATEGORIES:Michigan
ATTACH;FMTTYPE=image/jpeg:https://eadn-wc05-15902914.nxedge.io/wp-content/uploads/2024/10/cc-227A7676-scaled.jpg
ORGANIZER;CN="YpsiAG &amp%3B A3oG":MAILTO:susannyoder@yahoo.comu
END:VEVENT
END:VCALENDAR