
BEGIN:VCALENDAR
VERSION:2.0
PRODID:-//Family Life Radio - ECPv6.15.19//NONSGML v1.0//EN
CALSCALE:GREGORIAN
METHOD:PUBLISH
X-ORIGINAL-URL:https://myflr.org
X-WR-CALDESC:Events for Family Life Radio
REFRESH-INTERVAL;VALUE=DURATION:PT1H
X-Robots-Tag:noindex
X-PUBLISHED-TTL:PT1H
BEGIN:VTIMEZONE
TZID:America/Phoenix
BEGIN:STANDARD
TZOFFSETFROM:-0700
TZOFFSETTO:-0700
TZNAME:MST
DTSTART:20250101T000000
END:STANDARD
END:VTIMEZONE
BEGIN:VEVENT
DTSTART;TZID=America/Phoenix:20260509T100000
DTEND;TZID=America/Phoenix:20260509T150000
DTSTAMP:20260419T154322
CREATED:20260312T170749Z
LAST-MODIFIED:20260312T170757Z
UID:10059576-1778320800-1778338800@myflr.org
SUMMARY:Joy Run 2026
DESCRIPTION:Joy Meadows\, a faith-based nonprofit dedicated to supporting children and families impacted by foster care\, invites the  Kansas City community to… \nJoy Run 2026 \n May 9\, 2026 \nZip KC in Bonner Springs\, KS.  \n  \nThis annual Foster Care Awareness Month event brings together individuals\, families\, churches\, and local organizations to honor foster families\, raise awareness for children in care\, and fund programs that provide stability\, healing\, and joy. \nParticipants can enjoy a 3.1-mile course with optional obstacles\, or take a 1.5-mile shortcut. The day also features music\, games\, lawn activities\, vendor booths\, and opportunities for families and teams to participate together. \nFoster families attend free of charge\, receiving race t-shirts\, special swag\, and a free food item. Joy Run is more than a race—it’s a celebration of community\, faith\, and the individuals who support children in foster care. \nAll proceeds help Joy Meadows provide year-round programs\, therapy\, and housing support to children and families navigating the foster care system.
URL:https://myflr.org/event/joy-run-2026/
LOCATION:Zip KC 12829 Loring Rd\, Bonner Springs\, KS\, Zip KC 12829 Loring Rd\, Bonner Springs\, KS\, 66012\, United States
CATEGORIES:Kansas,Missouri
ATTACH;FMTTYPE=image/png:https://eadn-wc05-15902914.nxedge.io/wp-content/uploads/2026/03/JoyRun2026.png
ORGANIZER;CN="Joy Meadows":MAILTO:joyrun@joymeadows.org
END:VEVENT
END:VCALENDAR